BEGIN:VCALENDAR
VERSION:2.0
PRODID:-//jEvents 2.0 for Joomla//EN
CALSCALE:GREGORIAN
METHOD:PUBLISH
BEGIN:VEVENT
UID:7d01aab42d79532d2089fe44c2dbd82e
CATEGORIES:NORG Events
SUMMARY:Summer Picnic Dave and Nancy Collette's Farm
LOCATION:844 Mountville Road Portersville, PA 16051
DESCRIPTION;ENCODING=QUOTED-PRINTABLE:<p><span style="font-size: 12.16px;">You’re All Invited …</span></p><p><spa
 n style="font-size: 12.16px;">COLLETTE CAR PICNIC …...SATURDAY, JULY 26, 20
 25</span></p><p><span style="font-size: 12.16px;">1 p.m. (we eat at 2 p.m.)
 </span></p><p><span style="font-size: 12.16px;">844 Mountville Road Porters
 ville, PA 16051</span></p><p><span style="font-size: 12.16px;">What to brin
 g –</span></p><p><span style="font-size: 12.16px;"> antique or collector v
 ehicle (if you have one)</span></p><p><span style="font-size: 12.16px;"> d
 ish to share (meats, casseroles, salads, chips, pop, etc.)</span></p><p><sp
 an style="font-size: 12.16px;"> folding chair</span></p><p><span style="fo
 nt-size: 12.16px;"> table service</span></p><p><span style="font-size: 12.
 16px;">Family friendly event! (Please – no pets; no alcohol)</span></p>
CONTACT:Dave or Nancy at 724-368-8756 or email This email address is being protected from spambots. You need JavaScript enabled to view it.
 //
 
DTSTAMP:20260423T184401Z
DTSTART:20250726T130000Z
DTEND:20250726T160000Z
SEQUENCE:0
TRANSP:OPAQUE
END:VEVENT
END:VCALENDAR