BEGIN:VCALENDAR
VERSION:2.0
PRODID:-//jEvents 2.0 for Joomla//EN
CALSCALE:GREGORIAN
METHOD:PUBLISH
BEGIN:VEVENT
UID:e810b0d87cc857ae62da271cdd33ab80
CATEGORIES:NORG Events
SUMMARY:Lunch Outing Saturday June 23rd
LOCATION:566 White  Pond Drive, Akron, Ohio 44320
DESCRIPTION;ENCODING=QUOTED-PRINTABLE:\n\nWe won't have a regular meeting in June due to the Grand National Meet 
 in Dearborn, but I am\n\n\npretty sure people get hungry in June anyhow--so
  let's\n\n\nhave lunch! This month we will return to a restaurant that\n\n\
 neveryone seemed to like very much and which I missed\n\n\nbecause my hair 
 was too long. I'll get it cut ahead of time\n\n\nthis month! We will make a
  return visit on Saturday, June\n\n\n23, to D'Angese's Trattoria and Cafe l
 ocated at 566 White\n\n\nPond Drive, Akron, Ohio 44320. Their phone number 
 is\n\n\n234-678-3612. I believe there is more than one D'Angese's\n\n\nloca
 tion, so be sure to head for the one on White Pond\n\n\nDrive in Akron.\n\n
 \nThey feature--SURPRISE!--Italian dishes and at our\n\n\nprevious visit th
 e general consensus seemed to be that\n\n\neverything on the menu was delic
 ious. They share a large parking lot with several other businesses, so\n\n\
 nif the weather cooperates we can even drive our old cars. Plan to arrive a
 t 11:00 a.m. so we can beat\n\n\nthe noon rush. Hope to see you there!\n\n\
 nNeal Garland, Activities Chair\n
CONTACT:234-678-3612
DTSTAMP:20260424T063253Z
DTSTART:20180623T110000Z
DTEND:20180623T130000Z
SEQUENCE:0
TRANSP:OPAQUE
END:VEVENT
END:VCALENDAR