BEGIN:VCALENDAR
VERSION:2.0
PRODID:-//jEvents 2.0 for Joomla//EN
CALSCALE:GREGORIAN
METHOD:PUBLISH
BEGIN:VEVENT
UID:d8c715a78935200a0057bd57d6cc9608
CATEGORIES:NORG Events
SUMMARY:Austin's Fireside Grill
LOCATION:Brecksville Ohio
DESCRIPTION;ENCODING=QUOTED-PRINTABLE:<p>Please Note: Luncheon that was scheduled for Saturday May 26th has been 
 Changed to Friday May 25th.  Same time 11:00 AM</p><p>NORG MAY LUNCH OUTING
  ~ 11:00 AM Saturday May 26 2018</p><p>Our lunch outing for April was held 
 at the Winking Lizard restaurant in Copley Township (Fairlawn),</p><p>which
  is a very popular spot for west Akron. Twenty NORGers and friends showed u
 p and enjoyed the</p><p>casual atmosphere and good food. We pretty much fil
 led the "back room" of the restaurant and had an</p><p>almost private party
 .</p><p>Our outing for May will be held on Saturday, May</p><p>25, at Austi
 n's Woodfire Grill located at 8121 Chippewa</p><p>Road (Route 82), Brecksvi
 lle, Ohio 44141-2011. The</p><p>phone number is 440-546-1003. Plan to arriv
 e at 11:00</p><p>a.m. The restaurant is located in the Creekside Commons</p
 ><p>shopping area and can be a bit of a challenge to</p><p>find because it 
 is not visible from Chippewa Road. As</p><p>you probably remember, earlier 
 this year we visited Simon's</p><p>Restaurant, which also is located in a s
 hopping</p><p>area on Chippewa Road. The Creekside Commons</p><p>shopping a
 rea is directly across the road from where Simon's</p><p>is located. Does t
 hat make sense? I hope so.</p><p>When you enter Creekside Commons, go strai
 ght until</p><p>you can turn left and then turn left (naturally). Austin's 
 Woodfire Grill is located at the end of a row of</p><p>shops and has a larg
 e parking lot in front of and to the side of the restaurant. Come hungry an
 d full of</p><p>stories about your car!</p><p>Unfortunately (for me), I wil
 l not be able to attend this outing. No, I am not getting another haircut!<
 /p><p>Momoe has decided to take me to Japan with her this year, as she need
 s someone to carry the suitcases,</p><p>so I will be out of the country whe
 n all of you are enjoying fine dining at Austin's. Bone Appetite, or someth
 ing</p><p>like that! Frank and Ginger Posar will see to it that everything 
 goes smoothly. Enjoy!</p><p>Neal Garland, Activities Chair</p>
CONTACT:Frank and Ginger Posar 
DTSTAMP:20260424T063309Z
DTSTART:20180525T110000Z
SEQUENCE:0
TRANSP:OPAQUE
END:VEVENT
END:VCALENDAR