BEGIN:VCALENDAR
VERSION:2.0
PRODID:-//jEvents 2.0 for Joomla//EN
CALSCALE:GREGORIAN
METHOD:PUBLISH
BEGIN:VEVENT
UID:9cad68dfb3d6ac22f79d3adf2ce9feb6
CATEGORIES:NORG Events
SUMMARY:NORG Luncheon Winking Lizard Copley
LOCATION:79 Springside Drive, Copley Township, Ohio  44333
DESCRIPTION;ENCODING=QUOTED-PRINTABLE:\n\nThe April outing will be held on Saturday, April 28, at the Winking Liz
 ard Tavern located at 79 Springside Drive, Copley Township, Ohio\n\n\n44333
 . The phone number is 330-664-1780. Plan to arrive at 11:00 a.m., or better
  yet, at 10:50 or so.\n\n\nThe Winking Lizard does not take reservations, b
 ut on Saturdays they open up what they call "the back\n\n\nroom." The resta
 urant opens at 11:00 and if we are there right at opening time we can proba
 bly fill up the\n\n\nback room with V8ers and have a somewhat private setti
 ng. The restaurant's address on Springside\n\n\nDrive in Copley Township ca
 n be a bit confusing because there are no signs to tell you when you enter\
 n\n\nCopley Township. Their location actually looks more like it is in Fair
 lawn. If you come into the area on\n\n\nInterstate 77, exit at the Fairlawn
  exit and head east toward Akron. This will put you onto Market Street/\n\n
 \nRoute 18. The first traffic light you come to is on Springside Drive. The
 re is a Get-Go gas station at that\n\n\nintersection. If you are headed eas
 t (toward Akron), turn right on Springside Drive and watch for the\n\n\nWin
 king Lizard on the left. Bring your friends, a big appetite, and a good sup
 ply of stories (true or otherwise)\n\n\nabout your car. See you there!\n\n\
 nNeal Garland, Activities Chair\n
CONTACT:Neal Garland, Activities Chair
DTSTAMP:20260424T074459Z
DTSTART:20180428T110000Z
DTEND:20180428T130000Z
SEQUENCE:0
TRANSP:OPAQUE
END:VEVENT
END:VCALENDAR