BEGIN:VCALENDAR
VERSION:2.0
PRODID:-//jEvents 2.0 for Joomla//EN
CALSCALE:GREGORIAN
METHOD:PUBLISH
BEGIN:VEVENT
UID:e95b46d97cb3fce9480262823039c4c2
CATEGORIES:NORG Events
SUMMARY:NORG Luncheon Fathead's Brewery
LOCATION:Fathead's Brewery 17450 Engle Lake Road in Middleburg Heights
DESCRIPTION;ENCODING=QUOTED-PRINTABLE:<p>Thursday, November 16th</p><p>Fathead's Brewery 17450 Engle Lake Road in
  Middleburg Heights</p><p><span style="font-size: 12.16px;">Fathead's doesn
 't open until noon, so let's </span>meet at 12:15 p.m. Come with an empty s
 tomach and a head full of bad</p><p>jokes. Hope to see you there.</p>
DTSTAMP:20260424T000701Z
DTSTART:20241114T121500Z
SEQUENCE:0
TRANSP:OPAQUE
END:VEVENT
END:VCALENDAR