BEGIN:VCALENDAR
VERSION:2.0
PRODID:-//jEvents 2.0 for Joomla//EN
CALSCALE:GREGORIAN
METHOD:PUBLISH
BEGIN:VEVENT
UID:89b04dfc8908e01efedd21aa44ba52da
CATEGORIES:NORG Events
SUMMARY:Bucket-O -Beans Car Show
LOCATION: Route 94 and East Church Street
DESCRIPTION;ENCODING=QUOTED-PRINTABLE:\n\n Bucket and Beans Car Show Saturday October 18th 9:00 ~ 3:00 In Marshal
 lville OH Located in Wayne County on S.R. 94 South of Route 30 There will b
 e traditional bean soup, cornbread and bologna sandwiches served at the eve
 nt. Car registration begins at 11am. There is also a Fire Fighter's Pancake
  Breakfast served from 7:00 ~ 11:00 “All you can eat“ in Marshville at the 
 Historical Society Route 94 and East Church Street\n\n\n \n
DTSTAMP:20260423T234016Z
DTSTART:20251018T090000Z
DTEND:20251018T150000Z
SEQUENCE:0
TRANSP:OPAQUE
END:VEVENT
END:VCALENDAR