BEGIN:VCALENDAR
VERSION:2.0
PRODID:-//jEvents 2.0 for Joomla//EN
CALSCALE:GREGORIAN
METHOD:PUBLISH
BEGIN:VEVENT
UID:1cbf6a03c0ed293a0cbf1199b67a0925
CATEGORIES:NORG Events
SUMMARY:Great Race Stops in Medina
LOCATION:Medina Ohio
DESCRIPTION;ENCODING=QUOTED-PRINTABLE:\n\nMembers are invited to see the participants arrive in Medina\n\n\nThe 2
 022 Hemmings Motor News Great Race presented by Hagerty Drivers Club will s
 tart in Warwick, Rhode Island on Saturday June 18 and finish in Fargo North
 \n\n\nDakota on Sunday June 26th.  They will be stopping for Lunch in Downt
 own Medina on Tuesday June 21st \n\n\n\n
DTSTAMP:20260423T215613Z
DTSTART:20220621T120000Z
SEQUENCE:0
TRANSP:OPAQUE
END:VEVENT
END:VCALENDAR