BEGIN:VCALENDAR
VERSION:2.0
PRODID:-//jEvents 2.0 for Joomla//EN
CALSCALE:GREGORIAN
METHOD:PUBLISH
BEGIN:VEVENT
UID:f8bdda9d6d749b959a84a97f0d045a84
CATEGORIES:NORG Events
SUMMARY:Corn Roast
LOCATION:Karen & Ron’s Farm
DESCRIPTION;ENCODING=QUOTED-PRINTABLE:<p class="yiv2781934452MsoNormal" style="color: #1d2228; font-family: 'Helv
 etica Neue', Helvetica, Arial, sans-serif; font-size: 13px;"><span style="f
 ont-size: 12pt; color: #17365d;">SAVE </span><strong><span style="font-size
 : 12pt; color: red;">Saturday October 9<sup>th</sup></span></strong><span s
 tyle="font-size: 12pt; color: red;">  </span><span style="font-size: 12pt; 
 color: #17365d;">for the NORG corn Roast at Karen & Ron’s Farm</span></p><p
  class="yiv2781934452MsoNormal" style="color: #1d2228; font-family: 'Helvet
 ica Neue', Helvetica, Arial, sans-serif; font-size: 13px;"><span style="fon
 t-size: 12pt; color: #17365d;"> </span></p><p class="yiv2781934452MsoNormal
 " style="color: #1d2228; font-family: 'Helvetica Neue', Helvetica, Arial, s
 ans-serif; font-size: 13px;"><span style="font-size: 12pt; color: #17365d;"
 >More info to follow</span></p><p class="yiv2781934452MsoNormal" style="col
 or: #1d2228; font-family: 'Helvetica Neue', Helvetica, Arial, sans-serif; f
 ont-size: 13px;"><span style="font-size: 12pt; color: #17365d;"> </span></p
 ><p class="yiv2781934452MsoNormal" style="color: #1d2228; font-family: 'Hel
 vetica Neue', Helvetica, Arial, sans-serif; font-size: 13px;"><span style="
 font-size: 12pt; color: #17365d;">Incidentally if you are planning on comin
 g, please respond to this message. </span></p><p class="yiv2781934452MsoNor
 mal" style="color: #1d2228; font-family: 'Helvetica Neue', Helvetica, Arial
 , sans-serif; font-size: 13px;"><span style="font-size: 12pt; color: #17365
 d;"> </span></p><p class="yiv2781934452MsoNormal" style="color: #1d2228; fo
 nt-family: 'Helvetica Neue', Helvetica, Arial, sans-serif; font-size: 13px;
 "><span style="font-size: 12pt; color: #17365d;">It will help in our planni
 ng regarding the number of guests.</span></p>
DTSTAMP:20260423T231825Z
DTSTART;VALUE=DATE:20211009
DTEND;VALUE=DATE:20211010
SEQUENCE:0
TRANSP:OPAQUE
END:VEVENT
END:VCALENDAR