BEGIN:VCALENDAR
VERSION:2.0
PRODID:-//jEvents 2.0 for Joomla//EN
CALSCALE:GREGORIAN
METHOD:PUBLISH
BEGIN:VEVENT
UID:365ea5c85110003251447225489310ca
CATEGORIES:NORG Events
SUMMARY:Lunch at Michael Angelo's
LOCATION: 5515 Broadview Road, also known as State Route 176, Richfield, Ohio 44286)
DESCRIPTION;ENCODING=QUOTED-PRINTABLE:\n\nGreat News NORG Luncheons Return LET'S EAT! Let's get our NORG lunch pr
 ogram going again before the next wave of the virus forces another lock dow
 n! I have gotten a number of requests for a return visit to Michael Angelo'
 s Winery (located at 5515 Broadview Road, also known as State Route 176, Ri
 chfield, Ohio 44286), so we will start out there. Michael Angelo's no longe
 r takes reservations, so plan to arrive at 11:00 a.m. on Saturday, August 2
 1, so we can beat the noontime crowd. There is a nice big parking lot, so i
 f the weather permits it might be a good day to drive your old car. As you 
 remember, you have to go to the counter and order what you want to eat and 
 drink (no waitress at the table), then go sit down and wait for your order 
 to be brought to you. We cannot get any reserved space, so as soon as you o
 rder go to the back of the long dining room and we can settle in to tables 
 that are close together. See you there! \n
DTSTAMP:20260423T231559Z
DTSTART:20210821T110000Z
SEQUENCE:0
TRANSP:OPAQUE
END:VEVENT
END:VCALENDAR