BEGIN:VCALENDAR
VERSION:2.0
PRODID:-//jEvents 2.0 for Joomla//EN
CALSCALE:GREGORIAN
METHOD:PUBLISH
BEGIN:VEVENT
UID:efc4c584d315f8c792413012016ec11c
CATEGORIES:NORG Events
SUMMARY:NORG Lunceon at the Honey-moon Grill
LOCATION:3458 Manchester Road in Portage Lakes, Ohio 44319
DESCRIPTION;ENCODING=QUOTED-PRINTABLE:\n\nNow that everyone has followed their New Year's resolutions and dieted 
 and exercised to lose all those extra calories gained during the holidays (
 maybe), it is time to start our 2020 V8 lunches.\n\n\nWe will begin with a 
 visit to the Honeymoon Grille (where else could we go during Valentine's Da
 y month?) located at 3458 Manchester Road in Portage Lakes, Ohio 44319. Our
  visit will\n\n\nbe on Saturday, February 29. Plan to arrive at 11:00 a.m. 
 so we can beat the noontime rush. We will have a semiprivate room and the r
 estaurant does serve adult beverages, so be sure to bring\n\n\nyour picture
  ID. The restaurant is located at the intersection of Manchester Road and P
 ortage Lakes Drive. See you there!\n\n\nNeal Garland, Chief Lunch Locator\n
CONTACT:Neal Garland
DTSTAMP:20260424T004521Z
DTSTART:20200229T110000Z
DTEND:20200229T130000Z
SEQUENCE:0
TRANSP:OPAQUE
END:VEVENT
END:VCALENDAR